BEGIN:VCALENDAR
VERSION:2.0
PRODID:-//Lignum Neuchâtel - ECPv6.15.11//NONSGML v1.0//EN
CALSCALE:GREGORIAN
METHOD:PUBLISH
X-ORIGINAL-URL:https://www.lignum-neuchatel.ch
X-WR-CALDESC:Évènements pour Lignum Neuchâtel
REFRESH-INTERVAL;VALUE=DURATION:PT1H
X-Robots-Tag:noindex
X-PUBLISHED-TTL:PT1H
BEGIN:VTIMEZONE
TZID:Europe/Zurich
BEGIN:DAYLIGHT
TZOFFSETFROM:+0100
TZOFFSETTO:+0200
TZNAME:CEST
DTSTART:20240331T010000
END:DAYLIGHT
BEGIN:STANDARD
TZOFFSETFROM:+0200
TZOFFSETTO:+0100
TZNAME:CET
DTSTART:20241027T010000
END:STANDARD
BEGIN:DAYLIGHT
TZOFFSETFROM:+0100
TZOFFSETTO:+0200
TZNAME:CEST
DTSTART:20250330T010000
END:DAYLIGHT
BEGIN:STANDARD
TZOFFSETFROM:+0200
TZOFFSETTO:+0100
TZNAME:CET
DTSTART:20251026T010000
END:STANDARD
BEGIN:DAYLIGHT
TZOFFSETFROM:+0100
TZOFFSETTO:+0200
TZNAME:CEST
DTSTART:20260329T010000
END:DAYLIGHT
BEGIN:STANDARD
TZOFFSETFROM:+0200
TZOFFSETTO:+0100
TZNAME:CET
DTSTART:20261025T010000
END:STANDARD
END:VTIMEZONE
BEGIN:VEVENT
DTSTART;TZID=Europe/Zurich:20250911T180000
DTEND;TZID=Europe/Zurich:20250913T170000
DTSTAMP:20260420T082835
CREATED:20250417T125304Z
LAST-MODIFIED:20250523T085022Z
UID:17735-1757613600-1757782800@www.lignum-neuchatel.ch
SUMMARY:Journées du Bois Suisse 2025
DESCRIPTION:LiNE est heureux de participer au JBS25 en collaboration avec les entreprises membres du Label Bois Suisse suivantes : \n\nDamien Pellaton Sàrl à La Brévine;\nDucommun Construction Bois Sàrl à la Brévine;\nCommune de La Grande Béroche\, Service forestier.\n\nMerci à eux pour leur engagement envers la filière bois et la formation. \nNous nous réjouissons de vous y voir nombreuses et nombreux ! \nProgramme et informations à venir sur Bevaix NE – Bois Suisse \n 
URL:https://www.lignum-neuchatel.ch/agenda/journees-du-bois-suisse-2025/
LOCATION:2022 Bevaix
ATTACH;FMTTYPE=image/png:https://www.lignum-neuchatel.ch/wp-content/uploads/2025/04/Capture-decran-2025-04-17-140506.png
END:VEVENT
BEGIN:VEVENT
DTSTART;TZID=Europe/Zurich:20250911T183000
DTEND;TZID=Europe/Zurich:20250911T203000
DTSTAMP:20260420T082835
CREATED:20250902T072346Z
LAST-MODIFIED:20250910T092928Z
UID:17820-1757615400-1757622600@www.lignum-neuchatel.ch
SUMMARY:Conférence de M. Pascal Bourquin ANNULEE
DESCRIPTION:Lignum Neuchâtel et le regroupement d’entreprises labellisées Bois Suisse de Bevaix vous accueillent aux Journées du Bois 2025 ! \nA cette occasion\, ne manquez pas la conférence de Pascal Bourquin\, journaliste\, photographe et randonneur. \nDécouvrez son récit et les images de son projet LA VIE EN JAUNE : parcourir les 66’000 km de sentiers pédestres suisses et les illustrer en photos. \n  \nEntrée gratuite mais inscription obligatoire en ligne
URL:https://www.lignum-neuchatel.ch/agenda/conference-de-m-pascal-bourquin/
LOCATION:salle de gymnastique de Gorgier\, 2023 La Grande Béroche\, 11 Route de la Foulaz\, La Grande Béroche\, 2023\, Switzerland
CATEGORIES:Agenda
ATTACH;FMTTYPE=image/jpeg:https://www.lignum-neuchatel.ch/wp-content/uploads/2025/09/bourquin_foret_00314-scaled.jpg
END:VEVENT
END:VCALENDAR