BEGIN:VCALENDAR
VERSION:2.0
PRODID:-//Lignum Neuchâtel - ECPv6.15.11//NONSGML v1.0//EN
CALSCALE:GREGORIAN
METHOD:PUBLISH
X-WR-CALNAME:Lignum Neuchâtel
X-ORIGINAL-URL:https://www.lignum-neuchatel.ch
X-WR-CALDESC:Évènements pour Lignum Neuchâtel
REFRESH-INTERVAL;VALUE=DURATION:PT1H
X-Robots-Tag:noindex
X-PUBLISHED-TTL:PT1H
BEGIN:VTIMEZONE
TZID:Europe/Zurich
BEGIN:DAYLIGHT
TZOFFSETFROM:+0100
TZOFFSETTO:+0200
TZNAME:CEST
DTSTART:20240331T010000
END:DAYLIGHT
BEGIN:STANDARD
TZOFFSETFROM:+0200
TZOFFSETTO:+0100
TZNAME:CET
DTSTART:20241027T010000
END:STANDARD
BEGIN:DAYLIGHT
TZOFFSETFROM:+0100
TZOFFSETTO:+0200
TZNAME:CEST
DTSTART:20250330T010000
END:DAYLIGHT
BEGIN:STANDARD
TZOFFSETFROM:+0200
TZOFFSETTO:+0100
TZNAME:CET
DTSTART:20251026T010000
END:STANDARD
BEGIN:DAYLIGHT
TZOFFSETFROM:+0100
TZOFFSETTO:+0200
TZNAME:CEST
DTSTART:20260329T010000
END:DAYLIGHT
BEGIN:STANDARD
TZOFFSETFROM:+0200
TZOFFSETTO:+0100
TZNAME:CET
DTSTART:20261025T010000
END:STANDARD
END:VTIMEZONE
BEGIN:VEVENT
DTSTART;TZID=Europe/Zurich:20250702T220000
DTEND;TZID=Europe/Zurich:20250702T220000
DTSTAMP:20260422T123241
CREATED:20250523T093300Z
LAST-MODIFIED:20250527T134904Z
UID:17759-1751493600-1751493600@www.lignum-neuchatel.ch
SUMMARY:Remise des CFC de Forestier-bûcheron
DESCRIPTION:Le 2 juillet prochain\, Lignum Neuchâtel sera présent à la cérémonie de remise des CFC organisée par le pôle Terre et Nature du CPNE à Cernier. Lignum Neuchâtel tient à féliciter les lauréats 2025 qui seront dorénavant des forestiers-bûcherons professionnels. Actuellement en pénurie de personnel qualifié\, le patrimoine forestier\, la filière forestière\, amis également la filière bois compte sur cette relève ! Venez nombreux les féliciter ! \n  \nPôle Terre et Nature – Centre de formation professionnelle neuchâtelois
URL:https://www.lignum-neuchatel.ch/agenda/remise-des-cfc-de-forestier-bucheron/
LOCATION:CPNE-TN à Cernier
END:VEVENT
BEGIN:VEVENT
DTSTART;TZID=Europe/Zurich:20250703T083000
DTEND;TZID=Europe/Zurich:20250703T220000
DTSTAMP:20260422T123241
CREATED:20250523T105628Z
LAST-MODIFIED:20250602T082211Z
UID:17773-1751531400-1751580000@www.lignum-neuchatel.ch
SUMMARY:Remise AFP et CFC de Menuisier et Ébéniste
DESCRIPTION:Le jeudi 3 juillet 2025\, la remise des AFP et CFC de menuisiers et ébénistes aura lieu dans les locaux du CPNE pôle BC à Colombier. Lignum Neuchâtel tient à féliciter les lauréats 2025 qui seront nos professionnels de demain et qui façonnent une matière noble et renouvelable ! Venez nombreux les féliciter ! \n  \nCPNE pôle BC \n 
URL:https://www.lignum-neuchatel.ch/agenda/remise-afp-et-cfc-de-menuisier-et-ebeniste/
LOCATION:CPNE-BC à Colombier
END:VEVENT
END:VCALENDAR