BEGIN:VCALENDAR
VERSION:2.0
PRODID:-//Lignum Neuchâtel - ECPv6.15.11//NONSGML v1.0//EN
CALSCALE:GREGORIAN
METHOD:PUBLISH
X-ORIGINAL-URL:https://www.lignum-neuchatel.ch
X-WR-CALDESC:Évènements pour Lignum Neuchâtel
REFRESH-INTERVAL;VALUE=DURATION:PT1H
X-Robots-Tag:noindex
X-PUBLISHED-TTL:PT1H
BEGIN:VTIMEZONE
TZID:Europe/Zurich
BEGIN:DAYLIGHT
TZOFFSETFROM:+0100
TZOFFSETTO:+0200
TZNAME:CEST
DTSTART:20240331T010000
END:DAYLIGHT
BEGIN:STANDARD
TZOFFSETFROM:+0200
TZOFFSETTO:+0100
TZNAME:CET
DTSTART:20241027T010000
END:STANDARD
BEGIN:DAYLIGHT
TZOFFSETFROM:+0100
TZOFFSETTO:+0200
TZNAME:CEST
DTSTART:20250330T010000
END:DAYLIGHT
BEGIN:STANDARD
TZOFFSETFROM:+0200
TZOFFSETTO:+0100
TZNAME:CET
DTSTART:20251026T010000
END:STANDARD
BEGIN:DAYLIGHT
TZOFFSETFROM:+0100
TZOFFSETTO:+0200
TZNAME:CEST
DTSTART:20260329T010000
END:DAYLIGHT
BEGIN:STANDARD
TZOFFSETFROM:+0200
TZOFFSETTO:+0100
TZNAME:CET
DTSTART:20261025T010000
END:STANDARD
END:VTIMEZONE
BEGIN:VEVENT
DTSTART;TZID=Europe/Zurich:20250513T193000
DTEND;TZID=Europe/Zurich:20250513T210000
DTSTAMP:20260422T133303
CREATED:20241218T121245Z
LAST-MODIFIED:20250422T123444Z
UID:3817-1747164600-1747170000@www.lignum-neuchatel.ch
SUMMARY:Assemblée générale 2025 - Save the date !
DESCRIPTION:L’assemblée générale de l’association Lignum Neuchâtel se déroulera en 2 parties: \n\ndès 18h30 Visite/Présentation\nDès 19h30 AG\, Partie statutaire\n\nNous nous réjouissons de rencontrer nos membres à cette occasions. \nDes informations complémentaires vous seront transmises en temps utiles. \n<a href= »https://widget.weezevent.com/ticket/E1320047/?code=50538&locale=fr-FR&width_auto=1&color_primary=0032FA » onclick= »var w=window.open(‘https://widget.weezevent.com/ticket/E1320047/?code=50538&locale=fr-FR&width_auto=1&color_primary=0032FA’\, ‘Billetterie_weezevent’\, ‘width=650\, height=600\, top=100\, left=100\, toolbar=no\, resizable=yes\, scrollbars=yes\, status=no’); w.focus(); return false; » style= »text-decoration: none;color: #ffffff;background: #0032fa;padding: .4em 1em;border-radius: 5px; »>Inscription</a> \n 
URL:https://www.lignum-neuchatel.ch/agenda/lignumneuchatel-assemblee-generale-2025-save-the-date/
CATEGORIES:Agenda
ATTACH;FMTTYPE=image/jpeg:https://www.lignum-neuchatel.ch/wp-content/uploads/2024/12/photo-Plafond-en-sapin-guite-Centre-forestier-Boudry-AG-LiNE-scaled.jpg
END:VEVENT
END:VCALENDAR