BEGIN:VCALENDAR
VERSION:2.0
PRODID:-//Lignum Neuchâtel - ECPv6.15.11//NONSGML v1.0//EN
CALSCALE:GREGORIAN
METHOD:PUBLISH
X-WR-CALNAME:Lignum Neuchâtel
X-ORIGINAL-URL:https://www.lignum-neuchatel.ch
X-WR-CALDESC:Évènements pour Lignum Neuchâtel
REFRESH-INTERVAL;VALUE=DURATION:PT1H
X-Robots-Tag:noindex
X-PUBLISHED-TTL:PT1H
BEGIN:VTIMEZONE
TZID:Europe/Zurich
BEGIN:DAYLIGHT
TZOFFSETFROM:+0100
TZOFFSETTO:+0200
TZNAME:CEST
DTSTART:20220327T010000
END:DAYLIGHT
BEGIN:STANDARD
TZOFFSETFROM:+0200
TZOFFSETTO:+0100
TZNAME:CET
DTSTART:20221030T010000
END:STANDARD
BEGIN:DAYLIGHT
TZOFFSETFROM:+0100
TZOFFSETTO:+0200
TZNAME:CEST
DTSTART:20230326T010000
END:DAYLIGHT
BEGIN:STANDARD
TZOFFSETFROM:+0200
TZOFFSETTO:+0100
TZNAME:CET
DTSTART:20231029T010000
END:STANDARD
BEGIN:DAYLIGHT
TZOFFSETFROM:+0100
TZOFFSETTO:+0200
TZNAME:CEST
DTSTART:20240331T010000
END:DAYLIGHT
BEGIN:STANDARD
TZOFFSETFROM:+0200
TZOFFSETTO:+0100
TZNAME:CET
DTSTART:20241027T010000
END:STANDARD
END:VTIMEZONE
BEGIN:VEVENT
DTSTART;TZID=Europe/Zurich:20230523T183000
DTEND;TZID=Europe/Zurich:20230523T210000
DTSTAMP:20260424T190558
CREATED:20230421T084237Z
LAST-MODIFIED:20230421T115123Z
UID:3552-1684866600-1684875600@www.lignum-neuchatel.ch
SUMMARY:Assemblée générale 2023
DESCRIPTION:L’assemblée générale ordinaire de Lignum Neuchâtel aura lieu le mardi 23 mai 2023\, à 19h30\, au Centre forestier de la Ville de Neuchâtel à 2316 Les Ponts de Martel.\nConvocation AG Lignum NE 2023\nCette dernière sera précédée dès 18h30 d’une visite ayant comme objet la transformation et la rénovation du bâtiment de la Maison de la Tourbière (anciennement le Cerf).
URL:https://www.lignum-neuchatel.ch/agenda/assemblee-generale-2023/
LOCATION:Centre forestier\, Marais Rouge 7\, 2316 Les Ponts de Martel\, NE\, 2316\, Suisse
CATEGORIES:Agenda
END:VEVENT
END:VCALENDAR