BEGIN:VCALENDAR
VERSION:2.0
PRODID:-//Lignum Neuchâtel - ECPv6.15.11//NONSGML v1.0//EN
CALSCALE:GREGORIAN
METHOD:PUBLISH
X-ORIGINAL-URL:https://www.lignum-neuchatel.ch
X-WR-CALDESC:Évènements pour Lignum Neuchâtel
REFRESH-INTERVAL;VALUE=DURATION:PT1H
X-Robots-Tag:noindex
X-PUBLISHED-TTL:PT1H
BEGIN:VTIMEZONE
TZID:Europe/Zurich
BEGIN:DAYLIGHT
TZOFFSETFROM:+0100
TZOFFSETTO:+0200
TZNAME:CEST
DTSTART:20250330T010000
END:DAYLIGHT
BEGIN:STANDARD
TZOFFSETFROM:+0200
TZOFFSETTO:+0100
TZNAME:CET
DTSTART:20251026T010000
END:STANDARD
BEGIN:DAYLIGHT
TZOFFSETFROM:+0100
TZOFFSETTO:+0200
TZNAME:CEST
DTSTART:20260329T010000
END:DAYLIGHT
BEGIN:STANDARD
TZOFFSETFROM:+0200
TZOFFSETTO:+0100
TZNAME:CET
DTSTART:20261025T010000
END:STANDARD
BEGIN:DAYLIGHT
TZOFFSETFROM:+0100
TZOFFSETTO:+0200
TZNAME:CEST
DTSTART:20270328T010000
END:DAYLIGHT
BEGIN:STANDARD
TZOFFSETFROM:+0200
TZOFFSETTO:+0100
TZNAME:CET
DTSTART:20271031T010000
END:STANDARD
END:VTIMEZONE
BEGIN:VEVENT
DTSTART;TZID=Europe/Zurich:20260422T120000
DTEND;TZID=Europe/Zurich:20260426T150000
DTSTAMP:20260421T104812
CREATED:20260129T135345Z
LAST-MODIFIED:20260129T135345Z
UID:17894-1776859200-1777215600@www.lignum-neuchatel.ch
SUMMARY:Salon de l'immobilier neuchâtelois 2026
DESCRIPTION:Lignum Neuchâtel sera présent au SINE 2026 pour cette 14ème édition. Il regroupe tous les acteurs économiques de l’immobilier et les professionnels qui peuvent répondre à toutes vos questions. Le salon se tient dans un cadre agréable et adapté à l’événement (les patinoires du Littoral à Neuchâtel). \nHoraires: \n\nMercredi à Vendredi: 14h à 21h\nSamedi: 10h à 19h\nDimanche: 10h à 17h\n\nVenez nombreux nous rencontrer pour échanger sur les différentes possibilités d’utilisation du matériaux bois\, que ce soit du bois suisse ou du bois issu de vos propres forêts ! Le bois\, le plus vieux matériaux d’avenir ! \nplus d’information à suivre…
URL:https://www.lignum-neuchatel.ch/agenda/salon-de-limmobilier-neuchatelois-2026/
LOCATION:Patinoires du Littoral\, quai Robert-Comtesse\, 2000 Neuchâtel
END:VEVENT
BEGIN:VEVENT
DTSTART;TZID=Europe/Zurich:20260512T173000
DTEND;TZID=Europe/Zurich:20260512T210000
DTSTAMP:20260421T104812
CREATED:20260129T132903Z
LAST-MODIFIED:20260129T132903Z
UID:17875-1778607000-1778619600@www.lignum-neuchatel.ch
SUMMARY:AG Lignum Neuchâtel 2026 - Save the date !
DESCRIPTION:L’assemblée générale de l’association Lignum Neuchâtel se déroulera en 2 parties: \n\ndès 18h30 Visite/Présentation\nDès 19h30 AG\, Partie statutaire\n\nNous nous réjouissons de rencontrer nos membres à cette occasions.
URL:https://www.lignum-neuchatel.ch/agenda/ag-lignum-neuchatel-2026-save-the-date/
LOCATION:Infos à suivre
END:VEVENT
BEGIN:VEVENT
DTSTART;TZID=Europe/Zurich:20260701T120000
DTEND;TZID=Europe/Zurich:20260701T150000
DTSTAMP:20260421T104812
CREATED:20260129T133534Z
LAST-MODIFIED:20260129T133534Z
UID:17879-1782907200-1782918000@www.lignum-neuchatel.ch
SUMMARY:Remise des CFC de Forestiers-bûcherons
DESCRIPTION:Venez nombreux féliciter et célébrer les nouveau pros ! Lignum Neuchâtel sera présent et remettra des prix aux lauréats\, ainsi que la charte de la Filière Forêt-Bois ! \nAu plaisir de vous rencontrer à cette occasion!
URL:https://www.lignum-neuchatel.ch/agenda/remise-des-cfc-de-forestiers-bucherons/
LOCATION:CPNE TN\, Aurore 3\, 2053 Cernier
END:VEVENT
BEGIN:VEVENT
DTSTART;TZID=Europe/Zurich:20260702T150000
DTEND;TZID=Europe/Zurich:20260702T163000
DTSTAMP:20260421T104812
CREATED:20260129T133938Z
LAST-MODIFIED:20260129T133938Z
UID:17887-1783004400-1783009800@www.lignum-neuchatel.ch
SUMMARY:Remise des CFC de Menuisiers-Ebénistes & Charpentiers
DESCRIPTION:Venez nombreux féliciter et célébrer les nouveau pros ! Lignum Neuchâtel sera présent et remettra des prix aux lauréats\, ainsi que la charte de la Filière Forêt-Bois ! \nAu plaisir de vous rencontrer à cette occasion!
URL:https://www.lignum-neuchatel.ch/agenda/remise-des-cfc-de-menuisiers-ebenistes-charpentiers/
LOCATION:CPNE BC\, Longues Raies 11\, 2013 Colombier
END:VEVENT
BEGIN:VEVENT
DTSTART;TZID=Europe/Zurich:20260829T070000
DTEND;TZID=Europe/Zurich:20260830T160000
DTSTAMP:20260421T104812
CREATED:20260129T152511Z
LAST-MODIFIED:20260129T152511Z
UID:17908-1787986800-1788105600@www.lignum-neuchatel.ch
SUMMARY:Fête La Terre - La filière forestière à l'honneur
DESCRIPTION:Fête La Terre revient en 2026 avec\, à l’honneur\, la filière forestière et\, donc\, une nouvelle fois du bois en veux-tu ? en voilà ! \nLignum Neuchâtel sera présent pour entre autre répondre à vos interrogations sur la mise en valeur du bois et notamment le bois issu d’exploitation forcée (chablis\, bostrychés\, dépérissant\, etc.). \nAu plaisir de vous y voir nombreux !
URL:https://www.lignum-neuchatel.ch/agenda/fete-la-terre-la-filiere-forestiere-a-lhonneur/
LOCATION:CPNE TN\, Aurore 3\, 2053 Cernier
END:VEVENT
BEGIN:VEVENT
DTSTART;TZID=Europe/Zurich:20260910T080000
DTEND;TZID=Europe/Zurich:20260916T153000
DTSTAMP:20260421T104812
CREATED:20260129T151102Z
LAST-MODIFIED:20260129T151102Z
UID:17902-1789027200-1789572600@www.lignum-neuchatel.ch
SUMMARY:Capa'Cité 2026 à Evologia - Forum des métiers
DESCRIPTION:Une fois de plus Capa’Cité revient ! Cette année l’édition sera mise sur pied sur le magnifique site d’Evologia à Cernier. Une splendide vitrine pour les métiers de la filière Forêt-Bois ! \nplus d’informations à suivre…
URL:https://www.lignum-neuchatel.ch/agenda/capacite-2026-a-evologia-forum-des-metiers/
LOCATION:CPNE TN\, Aurore 3\, 2053 Cernier
END:VEVENT
END:VCALENDAR