BEGIN:VCALENDAR
VERSION:2.0
PRODID:-//Lignum Neuchâtel - ECPv6.15.11//NONSGML v1.0//EN
CALSCALE:GREGORIAN
METHOD:PUBLISH
X-WR-CALNAME:Lignum Neuchâtel
X-ORIGINAL-URL:https://www.lignum-neuchatel.ch
X-WR-CALDESC:Évènements pour Lignum Neuchâtel
REFRESH-INTERVAL;VALUE=DURATION:PT1H
X-Robots-Tag:noindex
X-PUBLISHED-TTL:PT1H
BEGIN:VTIMEZONE
TZID:Europe/Zurich
BEGIN:DAYLIGHT
TZOFFSETFROM:+0100
TZOFFSETTO:+0200
TZNAME:CEST
DTSTART:20250330T010000
END:DAYLIGHT
BEGIN:STANDARD
TZOFFSETFROM:+0200
TZOFFSETTO:+0100
TZNAME:CET
DTSTART:20251026T010000
END:STANDARD
BEGIN:DAYLIGHT
TZOFFSETFROM:+0100
TZOFFSETTO:+0200
TZNAME:CEST
DTSTART:20260329T010000
END:DAYLIGHT
BEGIN:STANDARD
TZOFFSETFROM:+0200
TZOFFSETTO:+0100
TZNAME:CET
DTSTART:20261025T010000
END:STANDARD
BEGIN:DAYLIGHT
TZOFFSETFROM:+0100
TZOFFSETTO:+0200
TZNAME:CEST
DTSTART:20270328T010000
END:DAYLIGHT
BEGIN:STANDARD
TZOFFSETFROM:+0200
TZOFFSETTO:+0100
TZNAME:CET
DTSTART:20271031T010000
END:STANDARD
END:VTIMEZONE
BEGIN:VEVENT
DTSTART;TZID=Europe/Zurich:20260702T150000
DTEND;TZID=Europe/Zurich:20260702T163000
DTSTAMP:20260420T003137
CREATED:20260129T133938Z
LAST-MODIFIED:20260129T133938Z
UID:17887-1783004400-1783009800@www.lignum-neuchatel.ch
SUMMARY:Remise des CFC de Menuisiers-Ebénistes & Charpentiers
DESCRIPTION:Venez nombreux féliciter et célébrer les nouveau pros ! Lignum Neuchâtel sera présent et remettra des prix aux lauréats\, ainsi que la charte de la Filière Forêt-Bois ! \nAu plaisir de vous rencontrer à cette occasion!
URL:https://www.lignum-neuchatel.ch/agenda/remise-des-cfc-de-menuisiers-ebenistes-charpentiers/
LOCATION:CPNE BC\, Longues Raies 11\, 2013 Colombier
END:VEVENT
END:VCALENDAR