BEGIN:VCALENDAR
VERSION:2.0
PRODID:-//Lignum Neuchâtel - ECPv6.15.11//NONSGML v1.0//EN
CALSCALE:GREGORIAN
METHOD:PUBLISH
X-ORIGINAL-URL:https://www.lignum-neuchatel.ch
X-WR-CALDESC:Évènements pour Lignum Neuchâtel
REFRESH-INTERVAL;VALUE=DURATION:PT1H
X-Robots-Tag:noindex
X-PUBLISHED-TTL:PT1H
BEGIN:VTIMEZONE
TZID:Europe/Zurich
BEGIN:DAYLIGHT
TZOFFSETFROM:+0100
TZOFFSETTO:+0200
TZNAME:CEST
DTSTART:20220327T010000
END:DAYLIGHT
BEGIN:STANDARD
TZOFFSETFROM:+0200
TZOFFSETTO:+0100
TZNAME:CET
DTSTART:20221030T010000
END:STANDARD
BEGIN:DAYLIGHT
TZOFFSETFROM:+0100
TZOFFSETTO:+0200
TZNAME:CEST
DTSTART:20230326T010000
END:DAYLIGHT
BEGIN:STANDARD
TZOFFSETFROM:+0200
TZOFFSETTO:+0100
TZNAME:CET
DTSTART:20231029T010000
END:STANDARD
BEGIN:DAYLIGHT
TZOFFSETFROM:+0100
TZOFFSETTO:+0200
TZNAME:CEST
DTSTART:20240331T010000
END:DAYLIGHT
BEGIN:STANDARD
TZOFFSETFROM:+0200
TZOFFSETTO:+0100
TZNAME:CET
DTSTART:20241027T010000
END:STANDARD
END:VTIMEZONE
BEGIN:VEVENT
DTSTART;TZID=Europe/Zurich:20230914T150000
DTEND;TZID=Europe/Zurich:20230916T170000
DTSTAMP:20260424T125808
CREATED:20230907T080946Z
LAST-MODIFIED:20230907T080946Z
UID:3645-1694703600-1694883600@www.lignum-neuchatel.ch
SUMMARY:Rencontres Romandes du Bois 2023
DESCRIPTION:Rencontres Romandes du Bois 2023 – 14\, 15 et 16 septembre 2023\, Le Châble\nLa troisième édition des Rencontres Romandes du Bois se déroulera à l’espace St-Marc au Châble les 14 et 15 septembre 2023 et sur différents sites en « portes ouvertes » répartis en Suisse romande le samedi 16. Les participants aborderont le thème «Bois et tourisme\, une symbiose naturelle» en séminaire et lors d’ateliers \nOrganisateur de la manifestation\nRencontres Romandes du Bois 23\nLignum Valais-Wallis\nAv. de Tourbillon 36D\n1950 Sion
URL:https://www.lignum-neuchatel.ch/agenda/rencontres-romandes-du-bois-2023/
ATTACH;FMTTYPE=image/jpeg:https://www.lignum-neuchatel.ch/wp-content/uploads/2023/09/csm_RRB23_820c9090a5.jpg
ORGANIZER;CN="Espace St-Marc%2C Rte de Mauvoisin 45%2C 1934 Le Ch%C3%A2bles VS":MAILTO:info@rrb23.ch
END:VEVENT
END:VCALENDAR