BEGIN:VCALENDAR
VERSION:2.0
PRODID:-//Lignum Neuchâtel - ECPv6.15.11//NONSGML v1.0//EN
CALSCALE:GREGORIAN
METHOD:PUBLISH
X-ORIGINAL-URL:https://www.lignum-neuchatel.ch
X-WR-CALDESC:Évènements pour Lignum Neuchâtel
REFRESH-INTERVAL;VALUE=DURATION:PT1H
X-Robots-Tag:noindex
X-PUBLISHED-TTL:PT1H
BEGIN:VTIMEZONE
TZID:Europe/Zurich
BEGIN:DAYLIGHT
TZOFFSETFROM:+0100
TZOFFSETTO:+0200
TZNAME:CEST
DTSTART:20210328T010000
END:DAYLIGHT
BEGIN:STANDARD
TZOFFSETFROM:+0200
TZOFFSETTO:+0100
TZNAME:CET
DTSTART:20211031T010000
END:STANDARD
BEGIN:DAYLIGHT
TZOFFSETFROM:+0100
TZOFFSETTO:+0200
TZNAME:CEST
DTSTART:20220327T010000
END:DAYLIGHT
BEGIN:STANDARD
TZOFFSETFROM:+0200
TZOFFSETTO:+0100
TZNAME:CET
DTSTART:20221030T010000
END:STANDARD
BEGIN:DAYLIGHT
TZOFFSETFROM:+0100
TZOFFSETTO:+0200
TZNAME:CEST
DTSTART:20230326T010000
END:DAYLIGHT
BEGIN:STANDARD
TZOFFSETFROM:+0200
TZOFFSETTO:+0100
TZNAME:CET
DTSTART:20231029T010000
END:STANDARD
END:VTIMEZONE
BEGIN:VEVENT
DTSTART;TZID=Europe/Zurich:20220427T140000
DTEND;TZID=Europe/Zurich:20220501T170000
DTSTAMP:20260426T040353
CREATED:20220407T120037Z
LAST-MODIFIED:20220429T120839Z
UID:3449-1651068000-1651424400@www.lignum-neuchatel.ch
SUMMARY:Salon de l'immobilier neuchâtelois
DESCRIPTION:Du 27 avril au 1er mai prochain la filière du bois sera présente au Salon de l’immobilier neuchâtelois (stand no 34). La forêt\, l’énergie\, l’industrie et la construction bois seront à l’honneur à cet événement incontournable de l’immobilier. Conférence de Lignum le jeudi 28 avril. \nLe bois a le vent en poupe. Durable\, beau\, facile à mettre en œuvre\, local\, fixant du carbone\, participant à la bonne gestion des forêts\, émettant peu d’énergie grise\, pourvoyeur d’emplois locaux. Voici quelques-uns des nombreux avantages de ce matériau qui accompagne l’humanité depuis longtemps. Matériau traditionnel mais qui se modernise sans cesse et qui relève les défis du moment avec brio. \nPourquoi n’utilisez-vous toujours pas de bois dans vos constructions ou comme source d’énergie ? Il vous manque une information\, vous avez une question ? Lignum-Neuchâtel a réuni toute la palette des professionnels de la filière bois pour vous informer et vous convaincre. \nSaisissez cette opportunité et considérez le bois dans vos projets\, qu’ils soient une simple cabane à outils ou un immeuble devant répondre aux exigences environnementales les plus élevées. \nLa société durable ne se fait pas sans le bois et ses professionnels ! \nConférence bois\nLe bois en ville – surélévations et bâtiments élevés\, jeudi 28 avril\, Place du Village\, de 16h30 à 17h30 \nPartenaires du stand\nForêt Neuchâtel ; ANECEM Association Neuchâteloise des Entreprises de Charpente\, Ebénisterie et Menuiserie; SFFN Service de la faune\, des forêts et de la nature ; SENE Service de l’énergie et de l’environnement ; Industrie du bois Suisse romande et Lignum Neuchâtel. \nInformations\nSalon de l’immobilier neuchâtelois SINE du 27 avril au 1er mai 2022\, Patinoires du Littoral\, 2000 Neuchâtel\nStand d’information Lignum Neuchâtel : Stand no 34\nMercredi à vendredi: 14h à 21h\nSamedi : 10h à 19h\nDimanche : 10h à 17h
URL:https://www.lignum-neuchatel.ch/agenda/salon-de-limmobilier-neuchatelois/
LOCATION:Patinoires du Littoral\, Quai Robert-Comtesse\, Neuchâtel\, 2000\, Suisse
END:VEVENT
END:VCALENDAR